BEGIN:VCALENDAR
VERSION:2.0
PRODID:-//Welcome to Queenstown Baptist Church - ECPv6.6.1//NONSGML v1.0//EN
CALSCALE:GREGORIAN
METHOD:PUBLISH
X-WR-CALNAME:Welcome to Queenstown Baptist Church
X-ORIGINAL-URL:https://qbc.org.sg
X-WR-CALDESC:Events for Welcome to Queenstown Baptist Church
REFRESH-INTERVAL;VALUE=DURATION:PT1H
X-Robots-Tag:noindex
X-PUBLISHED-TTL:PT1H
BEGIN:VTIMEZONE
TZID:Asia/Singapore
BEGIN:STANDARD
TZOFFSETFROM:+0800
TZOFFSETTO:+0800
TZNAME:+08
DTSTART:20180101T000000
END:STANDARD
END:VTIMEZONE
BEGIN:VEVENT
DTSTART;VALUE=DATE:20180303
DTEND;VALUE=DATE:20180304
DTSTAMP:20260420T185440
CREATED:20240810T094645Z
LAST-MODIFIED:20240810T094645Z
UID:1385-1520035200-1520121599@qbc.org.sg
SUMMARY:CE INITIATIVE - BECOMING AN ANDREW
DESCRIPTION:12-1pm @ Agape Sanctuary (L3) \nTo be equipped in this Missio Dei movement together as a QBC community\, join us for 4 engaging sessions on the how-to’s of friendship evangelism and basics of follow up. \n3 Mar: L – Life Changing Message\n10 Mar: I – Intentional Relationships\n17 Mar: F – Faith Stories\n24 Mar: E – Essential First Steps \nFor registration\, please confirm your attendance with your DGL. If you are not currently in a DG\, please sign up using the link (tinyurl.com/becoming-an-andrew). We will allocate a suitable DG for you.
URL:https://qbc.org.sg/event/ce-initiative-becoming-an-andrew/
CATEGORIES:Church Meeting
END:VEVENT
BEGIN:VEVENT
DTSTART;VALUE=DATE:20180107
DTEND;VALUE=DATE:20180108
DTSTAMP:20260420T185440
CREATED:20240810T093237Z
LAST-MODIFIED:20240810T093237Z
UID:1370-1515283200-1515369599@qbc.org.sg
SUMMARY:2018 JOURNEY SERIES SESSION 3
DESCRIPTION:12-1pm @ Agape Sanctuary (L3)
URL:https://qbc.org.sg/event/2018-journey-series-session-3/
CATEGORIES:Church Meeting
END:VEVENT
END:VCALENDAR